BEGIN:VCALENDAR
VERSION:2.0
PRODID:-//hacksw/handcal//NONSGML v1.0//EN
BEGIN:VEVENT
SUMMARY:Vide Greniers BCHM 2026
UID:9b70223c-1a0a-46b8-953d-1e69aa224380
DTSTART:20260823T060000Z
DTEND:20260823T153000Z
LOCATION:Localisation rue du 6 Juin 1944 Marspich 57700 HAYANGE
CATEGORIES:Manifestation
STATUS:
URL;VALUE=URI:https://bchm57.sportsregions.fr/evenements/2026/08/23/vide-greniers-bchm-2026-2443688
END:VEVENT
END:VCALENDAR
